BEGIN:VCALENDAR
VERSION:2.0
PRODID:-//BMFA Midland Area - ECPv6.15.20//NONSGML v1.0//EN
CALSCALE:GREGORIAN
METHOD:PUBLISH
X-ORIGINAL-URL:https://midland.bmfa.uk
X-WR-CALDESC:Events for BMFA Midland Area
REFRESH-INTERVAL;VALUE=DURATION:PT1H
X-Robots-Tag:noindex
X-PUBLISHED-TTL:PT1H
BEGIN:VTIMEZONE
TZID:Europe/London
BEGIN:DAYLIGHT
TZOFFSETFROM:+0000
TZOFFSETTO:+0100
TZNAME:BST
DTSTART:20250330T010000
END:DAYLIGHT
BEGIN:STANDARD
TZOFFSETFROM:+0100
TZOFFSETTO:+0000
TZNAME:GMT
DTSTART:20251026T010000
END:STANDARD
BEGIN:DAYLIGHT
TZOFFSETFROM:+0000
TZOFFSETTO:+0100
TZNAME:BST
DTSTART:20260329T010000
END:DAYLIGHT
BEGIN:STANDARD
TZOFFSETFROM:+0100
TZOFFSETTO:+0000
TZNAME:GMT
DTSTART:20261025T010000
END:STANDARD
BEGIN:DAYLIGHT
TZOFFSETFROM:+0000
TZOFFSETTO:+0100
TZNAME:BST
DTSTART:20270328T010000
END:DAYLIGHT
BEGIN:STANDARD
TZOFFSETFROM:+0100
TZOFFSETTO:+0000
TZNAME:GMT
DTSTART:20271031T010000
END:STANDARD
END:VTIMEZONE
BEGIN:VEVENT
DTSTART;TZID=Europe/London:20260428T193000
DTEND;TZID=Europe/London:20260428T213000
DTSTAMP:20260421T230247
CREATED:20260415T102126Z
LAST-MODIFIED:20260415T102223Z
UID:2846-1777404600-1777411800@midland.bmfa.uk
SUMMARY:Area Meeting - 28/04/26
DESCRIPTION:There will be a Midland Area meeting via Zoom on Tuesday 28th April\, starting at 19:00hrs \nIf your club wishes to attend please reply to our Chairman colin.bernard@sky.com giving the name\, email address and club. \nA Zoom invite link will be sent to this email address closer to the meeting date. \nThe agenda is available here \nThe minutes of the previous meeting are available here.
URL:https://midland.bmfa.uk/event/area-meeting-28-04-26
END:VEVENT
END:VCALENDAR