BEGIN:VCALENDAR
VERSION:2.0
PRODID:-//BMFA Midland Area - ECPv6.15.20//NONSGML v1.0//EN
CALSCALE:GREGORIAN
METHOD:PUBLISH
X-WR-CALNAME:BMFA Midland Area
X-ORIGINAL-URL:https://midland.bmfa.uk
X-WR-CALDESC:Events for BMFA Midland Area
REFRESH-INTERVAL;VALUE=DURATION:PT1H
X-Robots-Tag:noindex
X-PUBLISHED-TTL:PT1H
BEGIN:VTIMEZONE
TZID:Europe/London
BEGIN:DAYLIGHT
TZOFFSETFROM:+0000
TZOFFSETTO:+0100
TZNAME:BST
DTSTART:20240331T010000
END:DAYLIGHT
BEGIN:STANDARD
TZOFFSETFROM:+0100
TZOFFSETTO:+0000
TZNAME:GMT
DTSTART:20241027T010000
END:STANDARD
BEGIN:DAYLIGHT
TZOFFSETFROM:+0000
TZOFFSETTO:+0100
TZNAME:BST
DTSTART:20250330T010000
END:DAYLIGHT
BEGIN:STANDARD
TZOFFSETFROM:+0100
TZOFFSETTO:+0000
TZNAME:GMT
DTSTART:20251026T010000
END:STANDARD
BEGIN:DAYLIGHT
TZOFFSETFROM:+0000
TZOFFSETTO:+0100
TZNAME:BST
DTSTART:20260329T010000
END:DAYLIGHT
BEGIN:STANDARD
TZOFFSETFROM:+0100
TZOFFSETTO:+0000
TZNAME:GMT
DTSTART:20261025T010000
END:STANDARD
END:VTIMEZONE
BEGIN:VEVENT
DTSTART;VALUE=DATE:20251206
DTEND;VALUE=DATE:20251208
DTSTAMP:20260421T180000
CREATED:20250906T152313Z
LAST-MODIFIED:20250908T201951Z
UID:2628-1764979200-1765151999@midland.bmfa.uk
SUMMARY:Birmingham MAC Coupe d'Hiver Free Flight Contest (click to open)
DESCRIPTION:This event is to be held on 6th or 7th December at MOD North Luffenham.\nFor more details open this post and follow the link – La 10ème Grande Coupe de Birmingham
URL:https://midland.bmfa.uk/event/6th-or-7th-december-birmingham-mac-coupe-dhiver-free-flight-contest
LOCATION:MOD Luffenham\, RAF North Luffenham\, LE15 8RL\, United Kingdom
END:VEVENT
END:VCALENDAR